BEGIN:VCALENDAR
VERSION:2.0
PRODID:-//Tom Dante - ECPv6.15.20//NONSGML v1.0//EN
CALSCALE:GREGORIAN
METHOD:PUBLISH
X-ORIGINAL-URL:https://tomdante.com
X-WR-CALDESC:Events for Tom Dante
REFRESH-INTERVAL;VALUE=DURATION:PT1H
X-Robots-Tag:noindex
X-PUBLISHED-TTL:PT1H
BEGIN:VTIMEZONE
TZID:America/Los_Angeles
BEGIN:DAYLIGHT
TZOFFSETFROM:-0800
TZOFFSETTO:-0700
TZNAME:PDT
DTSTART:20240310T100000
END:DAYLIGHT
BEGIN:STANDARD
TZOFFSETFROM:-0700
TZOFFSETTO:-0800
TZNAME:PST
DTSTART:20241103T090000
END:STANDARD
BEGIN:DAYLIGHT
TZOFFSETFROM:-0800
TZOFFSETTO:-0700
TZNAME:PDT
DTSTART:20250309T100000
END:DAYLIGHT
BEGIN:STANDARD
TZOFFSETFROM:-0700
TZOFFSETTO:-0800
TZNAME:PST
DTSTART:20251102T090000
END:STANDARD
BEGIN:DAYLIGHT
TZOFFSETFROM:-0800
TZOFFSETTO:-0700
TZNAME:PDT
DTSTART:20260308T100000
END:DAYLIGHT
BEGIN:STANDARD
TZOFFSETFROM:-0700
TZOFFSETTO:-0800
TZNAME:PST
DTSTART:20261101T090000
END:STANDARD
END:VTIMEZONE
BEGIN:VEVENT
DTSTART;TZID=America/Los_Angeles:20250601T153000
DTEND;TZID=America/Los_Angeles:20250601T180000
DTSTAMP:20260423T163401
CREATED:20250415T000411Z
LAST-MODIFIED:20260128T003110Z
UID:10000011-1748791800-1748800800@tomdante.com
SUMMARY:Matt Mauser Big Band @ Brea Summerfest
DESCRIPTION:Join us in celebrating the 36th Anniversary of St. Angela Merici Parish School SummerFest! \n\n\n\nA distinctive tradition celebrating 36 years\, SummerFest has grown to become the largest community event in North OC.  \n\n\n\nThis 3-day celebration of food\, family and fun is the largest community event in North Orange County thanks to the hard work of 100s of volunteers & 1\,000s of supporters.  \n\n\n\nNet proceeds from the sale of tickets\, food\, & other attractions raise funds for the benefit of St. Angela Merici Parish School.
URL:https://tomdante.com/event/20250601mattmauser/
LOCATION:Brea Summerfest\, 575 S Walnut Ave\, Brea\, California\, 92821\, United States
CATEGORIES:Matt Mauser
ATTACH;FMTTYPE=image/png:https://tomdante.com/wp-content/uploads/2025/04/Matt-Mauser-Big-Band-Flyer-e1744676544391.png
GEO:33.9117763;-117.9047452
X-APPLE-STRUCTURED-LOCATION;VALUE=URI;X-ADDRESS=Brea Summerfest 575 S Walnut Ave Brea California 92821 United States;X-APPLE-RADIUS=500;X-TITLE=575 S Walnut Ave:geo:-117.9047452,33.9117763
END:VEVENT
BEGIN:VEVENT
DTSTART;TZID=America/Los_Angeles:20250525T173000
DTEND;TZID=America/Los_Angeles:20250525T200000
DTSTAMP:20260423T163401
CREATED:20250414T233304Z
LAST-MODIFIED:20260128T002940Z
UID:10000009-1748194200-1748203200@tomdante.com
SUMMARY:Tom Dante Quartet @ Campus JAX
DESCRIPTION:This quartet of longtime\, working musicians was originally formed as the backing band for countless gigs. The band consists of Tom Dante on drums & vocals\, Chris Barron on keys & vocals\, Dave Murdy on guitar & vocals\, and Ernie Nuñez on bass. You can regularly see the quartet performing with special guest artists\, and as the backing band for even more.  \n\n\n\nDoors open at 4:30
URL:https://tomdante.com/event/20250525tomdantequartet/
LOCATION:Campus JAX\, 3950 Campus Dr\, Newport Beach\, CA\, 92660\, United States
CATEGORIES:Tom Dante
ATTACH;FMTTYPE=image/png:https://tomdante.com/wp-content/uploads/2025/04/20250525-Sit-In-with-TD4-Profile.png
GEO:33.6650349;-117.8719387
X-APPLE-STRUCTURED-LOCATION;VALUE=URI;X-ADDRESS=Campus JAX 3950 Campus Dr Newport Beach CA 92660 United States;X-APPLE-RADIUS=500;X-TITLE=3950 Campus Dr:geo:-117.8719387,33.6650349
END:VEVENT
BEGIN:VEVENT
DTSTART;TZID=America/Los_Angeles:20250517T193000
DTEND;TZID=America/Los_Angeles:20250517T213000
DTSTAMP:20260423T163401
CREATED:20250414T232021Z
LAST-MODIFIED:20260128T003110Z
UID:10000008-1747510200-1747517400@tomdante.com
SUMMARY:Matt Mauser: Sinatra + More @ Campus JAX
DESCRIPTION:Vocalist Matt Mauser’s crooner style captures the essence of the very best of Tom Jones\, Bobby Darin\, Elvis\, Sinatra\, and so much more. Enjoy gourmet cuisine and classic Vegas-style entertainment as only Matt can deliver! \n\n\n\nDoors open at 5:30pm
URL:https://tomdante.com/event/20250517mattmauser/
LOCATION:Campus JAX\, 3950 Campus Dr\, Newport Beach\, CA\, 92660\, United States
CATEGORIES:Matt Mauser
ATTACH;FMTTYPE=image/png:https://tomdante.com/wp-content/uploads/2024/11/MMSB-Flyer.png
GEO:33.6650349;-117.8719387
X-APPLE-STRUCTURED-LOCATION;VALUE=URI;X-ADDRESS=Campus JAX 3950 Campus Dr Newport Beach CA 92660 United States;X-APPLE-RADIUS=500;X-TITLE=3950 Campus Dr:geo:-117.8719387,33.6650349
END:VEVENT
BEGIN:VEVENT
DTSTART;TZID=America/Los_Angeles:20250406T180000
DTEND;TZID=America/Los_Angeles:20250406T200000
DTSTAMP:20260423T163401
CREATED:20250302T234103Z
LAST-MODIFIED:20260128T003110Z
UID:10000007-1743962400-1743969600@tomdante.com
SUMMARY:Matt Mauser with the Tom Dante Quartet @ Campus JAX
DESCRIPTION:Special Event & Book Signing\n\n\n\nOne Night Only! Join Matt for a truly special and intimate evening: songs\, stories\, and signing copies of his new book\, Bittersweet Treasures: A Father’s Journey through Loss and Healing\, out in hardback March 20. \n\n\n\nMatt will be backed by the incomparable Tom Dante Quartet. All proceeds from book sales benefit the Christina Mauser foundation. \n\n\n\nThe e-book version of Bittersweet Treasures is available on Amazon and is available for pre-order now! \n\n\n\nDoors open at 4pm
URL:https://tomdante.com/event/matt-mauser-with-the-tom-dante-quartet/
LOCATION:Campus JAX\, 3950 Campus Dr\, Newport Beach\, CA\, 92660\, United States
CATEGORIES:Matt Mauser,Tom Dante
ATTACH;FMTTYPE=image/png:https://tomdante.com/wp-content/uploads/2024/11/MMSB-Flyer.png
GEO:33.6650349;-117.8719387
X-APPLE-STRUCTURED-LOCATION;VALUE=URI;X-ADDRESS=Campus JAX 3950 Campus Dr Newport Beach CA 92660 United States;X-APPLE-RADIUS=500;X-TITLE=3950 Campus Dr:geo:-117.8719387,33.6650349
END:VEVENT
BEGIN:VEVENT
DTSTART;TZID=America/Los_Angeles:20250322T180000
DTEND;TZID=America/Los_Angeles:20250322T213000
DTSTAMP:20260423T163401
CREATED:20250226T192531Z
LAST-MODIFIED:20260128T003110Z
UID:10000006-1742666400-1742679000@tomdante.com
SUMMARY:Matt Mauser Big Band with the Long Beach Symphony
DESCRIPTION:On Saturday\, March 22\, 2025\, at 7:30 PM\, Long Beach Symphony presents the timeless sounds of music’s greatest legends in Sinatra\, Elvis\, and More! by Matt Mauser\, performing at the Long Beach Arena. \n\n\n\nUnder the baton of Music Director Eckart Preu\, Mauser—renowned for his captivating interpretations of classic hits—will take audiences on a nostalgic journey through the music of Frank Sinatra\, Elvis Presley\, Bill Withers\, Barry Manilow\, Tom Jones\, Ricky Martin\, Bobby Darin\, Lou Rawls\, and more. \n\n\n\nFrom Sinatra’s smooth swing to Elvis’s electrifying rock ‘n’ roll\, this unforgettable evening will have audiences singing along to timeless favorites\, including Come Fly With Me\, Fly Me to the Moon\, All Shook Up\, Strangers in the Night\, It’s Not Unusual\, Beyond the Sea\, Livin’ La Vida Loca\, The Way You Look Tonight\, and a few special surprises. With orchestrations by Pete Jacobs and the power of a full symphony orchestra\, these beloved songs will be reimagined in a grand\, orchestral setting. \n\n\n\nTicket Prices:\n\n\n\nPrice range from $35 to $185 \n\n\n\n#MattMauser #TomDante
URL:https://tomdante.com/event/matt-mauser-big-band-with-the-long-beach-symphony/
LOCATION:Long Beach Arena\, 300 E. Ocean Blvd\, Long Beach\, California\, 90802\, United States
CATEGORIES:Matt Mauser
ATTACH;FMTTYPE=image/jpeg:https://tomdante.com/wp-content/uploads/2025/02/IMG_4570.jpeg
GEO:33.7645166;-118.1908882
X-APPLE-STRUCTURED-LOCATION;VALUE=URI;X-ADDRESS=Long Beach Arena 300 E. Ocean Blvd Long Beach California 90802 United States;X-APPLE-RADIUS=500;X-TITLE=300 E. Ocean Blvd:geo:-118.1908882,33.7645166
END:VEVENT
BEGIN:VEVENT
DTSTART;TZID=America/Los_Angeles:20250227T180000
DTEND;TZID=America/Los_Angeles:20250227T233000
DTSTAMP:20260423T163401
CREATED:20250226T191922Z
LAST-MODIFIED:20250414T235346Z
UID:10000005-1740679200-1740699000@tomdante.com
SUMMARY:Altadena Aftermath Benefit Concert: Music for a Cause
DESCRIPTION:The Eaton Canyon fire disaster has left many Altadena families in dire need of assistance\, and our goal is to provide them with the resources required to rebuild their lives. The devastating fire has not only destroyed homes but has also disrupted the lives of countless individuals who now face significant challenges in securing basic necessities. In response to this tragedy\, we have organized a benefit concert to raise funds and foster community spirit in these trying times. \n\n\n\nI will be joining my friends Elena and George Gilliam for a 45 minute set at 9:00pm.
URL:https://tomdante.com/event/altadena-aftermath-benefit-concert-music-for-a-cause/
LOCATION:Gardena Cinema\, 14948 Crenshaw Blvd\, Gardena\, California\, 90249\, United States
ATTACH;FMTTYPE=image/png:https://tomdante.com/wp-content/uploads/2025/02/Altadena-Aftermath-Benefit-Concert.png
GEO:33.8959671;-118.32615
X-APPLE-STRUCTURED-LOCATION;VALUE=URI;X-ADDRESS=Gardena Cinema 14948 Crenshaw Blvd Gardena California 90249 United States;X-APPLE-RADIUS=500;X-TITLE=14948 Crenshaw Blvd:geo:-118.32615,33.8959671
END:VEVENT
BEGIN:VEVENT
DTSTART;TZID=America/Los_Angeles:20250219T190000
DTEND;TZID=America/Los_Angeles:20250219T220000
DTSTAMP:20260423T163401
CREATED:20250212T233334Z
LAST-MODIFIED:20260128T002940Z
UID:10000004-1739991600-1740002400@tomdante.com
SUMMARY:Sit In with the Tom Dante Quartet
DESCRIPTION:Do you know what’s more exciting than the return of Sit In with the Tom Dante Trio? It’s the debut of Sit In with the Tom Dante QUARTET!! We’ve added the fabulous Dave Murdy on guitar which opens us up for more song possibilities.  \n\n\n\nWe missed some of you last week because of the rain. We want Gaslamp to be our new forever home. But it’s going to take all of us. We look forward to seeing you this Wednesday\, Feb 19\, 7-10pm. \n\n\n\nWe invite you to come make music with us\, or simply enjoy the live jazz at Gaslamp in Long Beach.  \n\n\n\n#JazzinLBC is Live Jazz in Long Beach\, every Wednesday\, 7 to 10pm at Gaslamp in Long Beach.  \n\n\n\nSupport live jazz by bringing a friend 🙂 \n\n\n\nAs always\, it’s your host John O’Campo with the Tom Dante Quartet.Tom Dante – Drums\, Chris Barron – Keys\, Dave Murdy – Guitar\, Ernie Nuñez – Bass \n\n\n\nGaslampWednesday\, February 19\, 7-10pm6251 E Pacific Coast HwyLong Beach\, CA 90803 (562) 596-4718 \n\n\n\nDinner Reservations:To reserve your favorite table\, CALL the restaurant or go to https://opentable.com \n\n\n\nCover:$15 @ the door$10 presale @ gaslamptix.com  \n\n\n\nDinner Reservations:\n\n\n\nTo reserve your favorite table\, CALL the restaurant or go to https://opentable.com \n\n\n\nCover:\n\n\n\n$15 @ the door$10 presale @ gaslamptix.com  \n\n\n\n#TomDanteQuartet #TomDante #ChrisBarron #DaveMurdy#ErnieNunez #JazzinLBC #LiveJazz #LongBeach #JazzNight #JazzDrums #JazzDrummer #JazzBass #UprightBass #JazzPiano #JazzKeys #JazzGuitar #JazzVocalist #JazzVocals #JazzSinger#GreatFood #FullMenu #FullBar 
URL:https://tomdante.com/event/20250219_sit-in-with-the-tom-dante-quartet/
LOCATION:Gaslamp\, 6251 E Pacific Coast Hwy\, Long Beach\, California\, 90803\, United States
CATEGORIES:Tom Dante
ATTACH;FMTTYPE=image/png:https://tomdante.com/wp-content/uploads/2025/02/20250219-Sit-In-with-the-Tom-Dante-Quartet.png
GEO:33.7671647;-118.1163369
X-APPLE-STRUCTURED-LOCATION;VALUE=URI;X-ADDRESS=Gaslamp 6251 E Pacific Coast Hwy Long Beach California 90803 United States;X-APPLE-RADIUS=500;X-TITLE=6251 E Pacific Coast Hwy:geo:-118.1163369,33.7671647
END:VEVENT
BEGIN:VEVENT
DTSTART;TZID=America/Los_Angeles:20250212T190000
DTEND;TZID=America/Los_Angeles:20250212T220000
DTSTAMP:20260423T163401
CREATED:20250126T002812Z
LAST-MODIFIED:20260128T002940Z
UID:10000002-1739386800-1739397600@tomdante.com
SUMMARY:Natalie Mendoza & Jason Fabus with the Tom Dante Quartet
DESCRIPTION:Friends\, don’t worry if you’ve lost that lovin’ feeling\, you can get it back this week. We have fantastic vocalist Natalie Hanna Mendoza AND saxophonist/vocalist Jason Fabus joining the Tom Dante Quartet. 
URL:https://tomdante.com/event/20250212_natalie-hanna-mendoza-jason-fabus-with-the-tom-dante-quartet/
LOCATION:Gaslamp\, 6251 E Pacific Coast Hwy\, Long Beach\, California\, 90803\, United States
CATEGORIES:Tom Dante
ATTACH;FMTTYPE=image/png:https://tomdante.com/wp-content/uploads/2025/01/Natalie-Hanna-Mendoza-Jason-Fabus-with-the-Tom-Dante-Quartet.png
GEO:33.7671647;-118.1163369
X-APPLE-STRUCTURED-LOCATION;VALUE=URI;X-ADDRESS=Gaslamp 6251 E Pacific Coast Hwy Long Beach California 90803 United States;X-APPLE-RADIUS=500;X-TITLE=6251 E Pacific Coast Hwy:geo:-118.1163369,33.7671647
END:VEVENT
BEGIN:VEVENT
DTSTART;TZID=America/Los_Angeles:20250206T183000
DTEND;TZID=America/Los_Angeles:20250206T200000
DTSTAMP:20260423T163401
CREATED:20250126T222902Z
LAST-MODIFIED:20250126T223419Z
UID:10000003-1738866600-1738872000@tomdante.com
SUMMARY:Tony Guerrero & Greg Vail
DESCRIPTION:This will be a fun double-bill! Tony Guerrero and Greg Vail are performing songs from their jazz albums of the 1990s. The backing band will be Chris Barron on keys\, Darrell Williams on bass\, and Tom Dante on drums. \n\n\n\nWe don’t do this often\, please come join us! \n\n\n\nFebruary 6\, 6:30pm to 8:00pm (Doors: 5:00) \n\n\n\nGreg Vail\, Darryl Williams\, Chris Barron\, Tom Dante\, Terence Matthew Love\, Campus JAX \n\n\n\n\n\n\n\n\n\n\n\n\n\n 
URL:https://tomdante.com/event/20250206_tony-guerrero-greg-vail/
LOCATION:Campus JAX\, 3950 Campus Dr\, Newport Beach\, CA\, 92660\, United States
ATTACH;FMTTYPE=image/jpeg:https://tomdante.com/wp-content/uploads/2025/01/Tony-Greg-at-Jax.jpeg
GEO:33.6650349;-117.8719387
X-APPLE-STRUCTURED-LOCATION;VALUE=URI;X-ADDRESS=Campus JAX 3950 Campus Dr Newport Beach CA 92660 United States;X-APPLE-RADIUS=500;X-TITLE=3950 Campus Dr:geo:-117.8719387,33.6650349
END:VEVENT
BEGIN:VEVENT
DTSTART;TZID=America/Los_Angeles:20250205T190000
DTEND;TZID=America/Los_Angeles:20250205T220000
DTSTAMP:20260423T163401
CREATED:20250122T064640Z
LAST-MODIFIED:20260128T002940Z
UID:10000001-1738782000-1738792800@tomdante.com
SUMMARY:The Return of Jazz Night
DESCRIPTION:We finally found what we think will be a perfect fit for all of us. Starting Wednesday\, Feb 5th\, we will be hosting our Jazz Nights at Gaslamp on PCH in Long Beach.We know that the magic of Jazz Night wasn’t the room. It was the community we all created.  \n\n\n\nHere’s what we’re keeping the same: \n\n\n\n\nWe play every Wednesday\, 7-10pm.\n\n\n\nSit-In Night with our host John O’Campo will continue on the 1st Wednesday of each month (starting March 5). \n\n\n\nWe will have the same open-door policy with our artists.\n\n\n\nWe will continue to encourage students to join us to get stage-time in front of an audience.\n\n\n\n\nHere’s what we’re changing: \n\n\n\n\nWith the larger stage\, your weekly backing band will now be the Tom Dante Quartet\, adding Dave Murdy on guitar. \n\n\n\n\nOur first show to be like our past Anniversary Shows. So Feb 5 will be our:All-Star “0th” Anniversary!! \n\n\n\nTickets: $10 at gaslamptix.com or $15 at the venue
URL:https://tomdante.com/event/20250205_all-star-anniversary/
LOCATION:Gaslamp\, 6251 E Pacific Coast Hwy\, Long Beach\, California\, 90803\, United States
CATEGORIES:Tom Dante
GEO:33.7671647;-118.1163369
X-APPLE-STRUCTURED-LOCATION;VALUE=URI;X-ADDRESS=Gaslamp 6251 E Pacific Coast Hwy Long Beach California 90803 United States;X-APPLE-RADIUS=500;X-TITLE=6251 E Pacific Coast Hwy:geo:-118.1163369,33.7671647
END:VEVENT
END:VCALENDAR