BEGIN:VCALENDAR
VERSION:2.0
PRODID:-//Tom Dante - ECPv6.15.20//NONSGML v1.0//EN
CALSCALE:GREGORIAN
METHOD:PUBLISH
X-ORIGINAL-URL:https://tomdante.com
X-WR-CALDESC:Events for Tom Dante
REFRESH-INTERVAL;VALUE=DURATION:PT1H
X-Robots-Tag:noindex
X-PUBLISHED-TTL:PT1H
BEGIN:VTIMEZONE
TZID:America/Los_Angeles
BEGIN:DAYLIGHT
TZOFFSETFROM:-0800
TZOFFSETTO:-0700
TZNAME:PDT
DTSTART:20250309T100000
END:DAYLIGHT
BEGIN:STANDARD
TZOFFSETFROM:-0700
TZOFFSETTO:-0800
TZNAME:PST
DTSTART:20251102T090000
END:STANDARD
BEGIN:DAYLIGHT
TZOFFSETFROM:-0800
TZOFFSETTO:-0700
TZNAME:PDT
DTSTART:20260308T100000
END:DAYLIGHT
BEGIN:STANDARD
TZOFFSETFROM:-0700
TZOFFSETTO:-0800
TZNAME:PST
DTSTART:20261101T090000
END:STANDARD
BEGIN:DAYLIGHT
TZOFFSETFROM:-0800
TZOFFSETTO:-0700
TZNAME:PDT
DTSTART:20270314T100000
END:DAYLIGHT
BEGIN:STANDARD
TZOFFSETFROM:-0700
TZOFFSETTO:-0800
TZNAME:PST
DTSTART:20271107T090000
END:STANDARD
END:VTIMEZONE
BEGIN:VEVENT
DTSTART;TZID=America/Los_Angeles:20260502T200000
DTEND;TZID=America/Los_Angeles:20260502T213000
DTSTAMP:20260423T144028
CREATED:20260423T034823Z
LAST-MODIFIED:20260423T035457Z
UID:10000030-1777752000-1777757400@tomdante.com
SUMMARY:Sail Away: A Yacht Rock Experience
DESCRIPTION:The ultimate celebration of soft rock & good times\n\n\n\nSet sail to the smooth sounds of California Yacht Rock\, brought to you by the team behind Music of the Knights. \n\n\n\nEvoking the breezy and silky sounds of ‘70s and ‘80s West Coast soft rock\, Sail Away will feature musical selections from Michael McDonald\, Christopher Cross\, Steely Dan\, Kenny Loggins\, and more. \n\n\n\nGrab your captain’s hat\, sip on something tropical\, and embark on a nostalgic journey of timeless and romantic hits\, brought to life by celebrated vocalists.
URL:https://tomdante.com/event/20260502_sail-away/
LOCATION:Irvine Barclay Theatre\, 4242 Campus Dr\, Irvine\, California\, 92612\, United States
ATTACH;FMTTYPE=image/png:https://tomdante.com/wp-content/uploads/2026/04/SailAway-YachtRock.png
END:VEVENT
BEGIN:VEVENT
DTSTART;TZID=America/Los_Angeles:20260513T183000
DTEND;TZID=America/Los_Angeles:20260513T213000
DTSTAMP:20260423T144028
CREATED:20260130T010625Z
LAST-MODIFIED:20260313T030045Z
UID:10000023-1778697000-1778707800@tomdante.com
SUMMARY:Tom Dante Quartet w/ Tony Guerrero
DESCRIPTION:
URL:https://tomdante.com/event/20260513_tonyguerrero/
LOCATION:Knolls Laguna\, 29971 Alicia Parkway\, Laguna Niguel\, CA\, 92677\, United States
CATEGORIES:Tom Dante
GEO:33.5276815;-117.7177045
X-APPLE-STRUCTURED-LOCATION;VALUE=URI;X-ADDRESS=Knolls Laguna 29971 Alicia Parkway Laguna Niguel CA 92677 United States;X-APPLE-RADIUS=500;X-TITLE=29971 Alicia Parkway:geo:-117.7177045,33.5276815
END:VEVENT
BEGIN:VEVENT
DTSTART;TZID=America/Los_Angeles:20260610T183000
DTEND;TZID=America/Los_Angeles:20260610T213000
DTSTAMP:20260423T144028
CREATED:20260313T024154Z
LAST-MODIFIED:20260313T024158Z
UID:10000027-1781116200-1781127000@tomdante.com
SUMMARY:Tom Dante Quartet w/ Lia Booth
DESCRIPTION:It’s the Tom Dante Quartet with the stellar vocalist Lia Booth. Join us at our NEW HOME at Knolls Restaurant in Laguna. We hope to see our friends from #SkyloftJazzNight there. Wednesday\, June 10\, 6:30 to 9:30pm.  \n\n\n\nThere’s NO COVER CHARGE\, bring a friend 🙂 \n\n\n\nKnolls Restaurant29971 Alicia ParkwayLaguna Niguel\, CA 92677 \n\n\n\nTables book up quickly\, make your reservation now. \n\n\n\nReservations: https://knollsrestaurant.com or (949) 495-1453 \n\n\n\n#LiaBooth #TomDanteQuartet #TD4 #TomDante #ChrisBarron #DaveMurdy #ErnieNunez #KnollsJazz #LiveJazz #LagunaBeach #JazzNight #JazzinLaguna #JazzDrums #JazzDrummer #JazzBass #UprightBass #JazzPiano #JazzKeys #JazzGuitar #JazzVocalist #JazzVocals #GreatFood #FullMenu #FullBar 
URL:https://tomdante.com/event/20260610-liabooth/
LOCATION:Knolls Laguna\, 29971 Alicia Parkway\, Laguna Niguel\, CA\, 92677\, United States
CATEGORIES:Tom Dante
GEO:33.5276815;-117.7177045
X-APPLE-STRUCTURED-LOCATION;VALUE=URI;X-ADDRESS=Knolls Laguna 29971 Alicia Parkway Laguna Niguel CA 92677 United States;X-APPLE-RADIUS=500;X-TITLE=29971 Alicia Parkway:geo:-117.7177045,33.5276815
END:VEVENT
BEGIN:VEVENT
DTSTART;TZID=America/Los_Angeles:20260807T203000
DTEND;TZID=America/Los_Angeles:20260807T220000
DTSTAMP:20260423T144028
CREATED:20260313T204751Z
LAST-MODIFIED:20260313T204753Z
UID:10000028-1786134600-1786140000@tomdante.com
SUMMARY:Matt Mauser: Sinatra + More
DESCRIPTION:Vocalist Matt Mauser’s crooner style captures the essence of the very best of Tom Jones\, Bobby Darin\, Elvis\, Sinatra\, and so much more. Enjoy gourmet cuisine and classic Vegas-style entertainment as only Matt can deliver! \n\n\n\nDoors open at 6:30pm
URL:https://tomdante.com/event/20260807_mmsb/
LOCATION:Campus JAX\, 3950 Campus Dr\, Newport Beach\, CA\, 92660\, United States
CATEGORIES:Matt Mauser
ATTACH;FMTTYPE=image/png:https://tomdante.com/wp-content/uploads/2024/11/MMSB-Flyer.png
GEO:33.6650349;-117.8719387
X-APPLE-STRUCTURED-LOCATION;VALUE=URI;X-ADDRESS=Campus JAX 3950 Campus Dr Newport Beach CA 92660 United States;X-APPLE-RADIUS=500;X-TITLE=3950 Campus Dr:geo:-117.8719387,33.6650349
END:VEVENT
BEGIN:VEVENT
DTSTART;TZID=America/Los_Angeles:20260910T193000
DTEND;TZID=America/Los_Angeles:20260910T213000
DTSTAMP:20260423T144028
CREATED:20260304T194616Z
LAST-MODIFIED:20260304T195355Z
UID:10000024-1789068600-1789075800@tomdante.com
SUMMARY:Matt Mauser Big Band
DESCRIPTION:Inspired by the golden age of swing\, The Matt Mauser Big Band channels the timeless charm of a young Frank Sinatra at the height of his career—singing with The Count Basie Orchestra at The Sands Hotel in Las Vegas —while also paying tribute to legendary artists like Elvis Presley\, Tom Jones\, and other acts from that iconic era. With a unique ability to infuse classic songs with a fresh\, modern flair\, Matt brings his own signature style to the stage\, entertaining audiences while also offering insight into the rich musical history behind each timeless tune. \n\n\n\nTicket Prices:\n\n\n\n$25 for Members\, $40 for Non-Members \n\n\n\nMuckenthaler Venue Info: \n\n\n\n\nThis performance will be held outside.\n\n\n\nConcert tickets are will-call style\, so there are no physical tickets. If you bought your ticket online or over the phone\, simply show up and give us the name you used for your purchase.\n\n\n\nA beer and wine bar will be available.\n\n\n\nParking is FREE in The Muck lot.
URL:https://tomdante.com/event/20260910-mmbb/
LOCATION:Muckenthaler Cultural Center\, 1201 W. Malvern Ave\, Fullerton\, CA\, 92833\, United States
CATEGORIES:Matt Mauser
ATTACH;FMTTYPE=image/png:https://tomdante.com/wp-content/uploads/2025/04/Matt-Mauser-Big-Band-Flyer-e1744676544391.png
GEO:33.8760859;-117.9443048
X-APPLE-STRUCTURED-LOCATION;VALUE=URI;X-ADDRESS=Muckenthaler Cultural Center 1201 W. Malvern Ave Fullerton CA 92833 United States;X-APPLE-RADIUS=500;X-TITLE=1201 W. Malvern Ave:geo:-117.9443048,33.8760859
END:VEVENT
END:VCALENDAR