BEGIN:VCALENDAR
VERSION:2.0
PRODID:-//Tom Dante - ECPv6.15.20//NONSGML v1.0//EN
CALSCALE:GREGORIAN
METHOD:PUBLISH
X-WR-CALNAME:Tom Dante
X-ORIGINAL-URL:https://tomdante.com
X-WR-CALDESC:Events for Tom Dante
REFRESH-INTERVAL;VALUE=DURATION:PT1H
X-Robots-Tag:noindex
X-PUBLISHED-TTL:PT1H
BEGIN:VTIMEZONE
TZID:America/Los_Angeles
BEGIN:DAYLIGHT
TZOFFSETFROM:-0800
TZOFFSETTO:-0700
TZNAME:PDT
DTSTART:20250309T100000
END:DAYLIGHT
BEGIN:STANDARD
TZOFFSETFROM:-0700
TZOFFSETTO:-0800
TZNAME:PST
DTSTART:20251102T090000
END:STANDARD
BEGIN:DAYLIGHT
TZOFFSETFROM:-0800
TZOFFSETTO:-0700
TZNAME:PDT
DTSTART:20260308T100000
END:DAYLIGHT
BEGIN:STANDARD
TZOFFSETFROM:-0700
TZOFFSETTO:-0800
TZNAME:PST
DTSTART:20261101T090000
END:STANDARD
BEGIN:DAYLIGHT
TZOFFSETFROM:-0800
TZOFFSETTO:-0700
TZNAME:PDT
DTSTART:20270314T100000
END:DAYLIGHT
BEGIN:STANDARD
TZOFFSETFROM:-0700
TZOFFSETTO:-0800
TZNAME:PST
DTSTART:20271107T090000
END:STANDARD
END:VTIMEZONE
BEGIN:VEVENT
DTSTART;TZID=America/Los_Angeles:20260807T203000
DTEND;TZID=America/Los_Angeles:20260807T220000
DTSTAMP:20260424T091130
CREATED:20260313T204751Z
LAST-MODIFIED:20260313T204753Z
UID:10000028-1786134600-1786140000@tomdante.com
SUMMARY:Matt Mauser: Sinatra + More
DESCRIPTION:Vocalist Matt Mauser’s crooner style captures the essence of the very best of Tom Jones\, Bobby Darin\, Elvis\, Sinatra\, and so much more. Enjoy gourmet cuisine and classic Vegas-style entertainment as only Matt can deliver! \n\n\n\nDoors open at 6:30pm
URL:https://tomdante.com/event/20260807_mmsb/
LOCATION:Campus JAX\, 3950 Campus Dr\, Newport Beach\, CA\, 92660\, United States
CATEGORIES:Matt Mauser
ATTACH;FMTTYPE=image/png:https://tomdante.com/wp-content/uploads/2024/11/MMSB-Flyer.png
GEO:33.6650349;-117.8719387
X-APPLE-STRUCTURED-LOCATION;VALUE=URI;X-ADDRESS=Campus JAX 3950 Campus Dr Newport Beach CA 92660 United States;X-APPLE-RADIUS=500;X-TITLE=3950 Campus Dr:geo:-117.8719387,33.6650349
END:VEVENT
END:VCALENDAR