BEGIN:VCALENDAR
VERSION:2.0
PRODID:-//Tom Dante - ECPv6.15.20//NONSGML v1.0//EN
CALSCALE:GREGORIAN
METHOD:PUBLISH
X-WR-CALNAME:Tom Dante
X-ORIGINAL-URL:https://tomdante.com
X-WR-CALDESC:Events for Tom Dante
REFRESH-INTERVAL;VALUE=DURATION:PT1H
X-Robots-Tag:noindex
X-PUBLISHED-TTL:PT1H
BEGIN:VTIMEZONE
TZID:America/Los_Angeles
BEGIN:DAYLIGHT
TZOFFSETFROM:-0800
TZOFFSETTO:-0700
TZNAME:PDT
DTSTART:20250309T100000
END:DAYLIGHT
BEGIN:STANDARD
TZOFFSETFROM:-0700
TZOFFSETTO:-0800
TZNAME:PST
DTSTART:20251102T090000
END:STANDARD
BEGIN:DAYLIGHT
TZOFFSETFROM:-0800
TZOFFSETTO:-0700
TZNAME:PDT
DTSTART:20260308T100000
END:DAYLIGHT
BEGIN:STANDARD
TZOFFSETFROM:-0700
TZOFFSETTO:-0800
TZNAME:PST
DTSTART:20261101T090000
END:STANDARD
BEGIN:DAYLIGHT
TZOFFSETFROM:-0800
TZOFFSETTO:-0700
TZNAME:PDT
DTSTART:20270314T100000
END:DAYLIGHT
BEGIN:STANDARD
TZOFFSETFROM:-0700
TZOFFSETTO:-0800
TZNAME:PST
DTSTART:20271107T090000
END:STANDARD
END:VTIMEZONE
BEGIN:VEVENT
DTSTART;TZID=America/Los_Angeles:20260502T200000
DTEND;TZID=America/Los_Angeles:20260502T213000
DTSTAMP:20260423T112320
CREATED:20260423T034823Z
LAST-MODIFIED:20260423T035457Z
UID:10000030-1777752000-1777757400@tomdante.com
SUMMARY:Sail Away: A Yacht Rock Experience
DESCRIPTION:The ultimate celebration of soft rock & good times\n\n\n\nSet sail to the smooth sounds of California Yacht Rock\, brought to you by the team behind Music of the Knights. \n\n\n\nEvoking the breezy and silky sounds of ‘70s and ‘80s West Coast soft rock\, Sail Away will feature musical selections from Michael McDonald\, Christopher Cross\, Steely Dan\, Kenny Loggins\, and more. \n\n\n\nGrab your captain’s hat\, sip on something tropical\, and embark on a nostalgic journey of timeless and romantic hits\, brought to life by celebrated vocalists.
URL:https://tomdante.com/event/20260502_sail-away/
LOCATION:Irvine Barclay Theatre\, 4242 Campus Dr\, Irvine\, California\, 92612\, United States
ATTACH;FMTTYPE=image/png:https://tomdante.com/wp-content/uploads/2026/04/SailAway-YachtRock.png
END:VEVENT
END:VCALENDAR